BEGIN:VCALENDAR
VERSION:2.0
CREATED:20260423T134539Z
PRODID:-//Innoviz Technologies Ltd./Equisolve Calendar v1.0//EN
METHOD:PUBLISH
BEGIN:VEVENT
UID:7fe4cd4b27c3631a01468474758833a1
DTSTAMP:20260424T132236Z
DTSTART:20260514T130000Z
DTEND:20260514T140000Z
SUMMARY:First Quarter 2026 Conference Call
DESCRIPTION:First Quarter 2026 Conference Call\n\nDate: May 14\, 2026 9:00 am EDT\n\nInvestors are invited to attend by registering in advance <a href="https://get-events.zoom.us/webinar/register/WN_Z5q9_4xZSO2txEU5UZOPkg" target="_blank" rel="noopener">here</a>.\n\n\nWebcast: https://get-events.zoom.us/webinar/register/WN_Z5q9_4xZSO2txEU5UZOPkg#/registration
END:VEVENT
END:VCALENDAR
