BEGIN:VCALENDAR
VERSION:2.0
CREATED:20260421T123531Z
PRODID:-//Innoviz Technologies Ltd./Equisolve Calendar v1.0//EN
METHOD:PUBLISH
BEGIN:VEVENT
UID:c6f4c308a479efa4f768e2104a4a3075
DTSTAMP:20260423T125507Z
DTSTART:20260528T130500Z
DTEND:20260528T140500Z
SUMMARY:TD Cowen 54th Annual Technology\, Media & Telecom Conference
DESCRIPTION:TD Cowen 54th Annual Technology\, Media & Telecom Conference\n\nDate: May 28\, 2026 9:05 am EDT\n\nWebcast: https://event.summitcast.com/view/GSXkFLqLwmvLB7AnnUj3ti/LeiqVKdHMrV6SfpFyuW9sp
END:VEVENT
END:VCALENDAR
